BEGIN:VCALENDAR
VERSION:2.0
PRODID:-//hacksw/handcal//NONSGML v1.0//EN
BEGIN:VEVENT
SUMMARY:Match
UID:2f14ab88-d278-4121-a737-a51317b0ed80
DTSTART:20260307T090000Z
DTEND:20260307T130000Z
LOCATION:Localisation   
CATEGORIES:Sportif
STATUS:
DESCRIPTION:<p>Le match d’aujourd’hui s'est termine sur une belle
 victoire de notre equipe 89-73.</p><p>Le club remonte au classement.
 Prochaine rencontre la semaine prochaine.</p>
URL;VALUE=URI:https://gerzat-baskey.sportsregions.fr/evenements/2026/03/07/match-2424788
END:VEVENT
END:VCALENDAR
